BEGIN:VCALENDAR
VERSION:2.0
PRODID:-//wp-events-plugin.com//7.2.3.1//EN
TZID:Europe/Berlin
X-WR-TIMEZONE:Europe/Berlin
BEGIN:VEVENT
UID:34@familien-zentrum.de
DTSTART;TZID=Europe/Berlin:20250122T100000
DTEND;TZID=Europe/Berlin:20250122T110000
DTSTAMP:20250114T144847Z
URL:https://www.familien-zentrum.de/veranstaltungen/babycafe-vortrag-schla
 f-gut-mein-kind-staerke/
SUMMARY:Babycafé-Vortrag "Das Ende einer glücklichen Stillbeziehung - das
  Abstillen" (STÄRKE)
DESCRIPTION:Wir laden Eltern mit ihren Babys im Rahmen des Babycafés (STÄ
 RKE) zum Vortrag „Das Ende einer glücklichen Stillbeziehung - das Absti
 llen“ herzlich in unser Café AugenBLICK ein!\n\nReferentin ist Jessica 
 Mizich / Still- und Laktationsberaterin.\n\nDie Teilnahme an der Info-Vera
 nstaltung ist kostenfrei. Weitere Infos vormittags im FZF-Büro\, Tel. 074
 41 / 950430 oder mail@familien-zentrum.de.\n\n&nbsp\;\n\n&nbsp\;
ATTACH;FMTTYPE=image/jpeg:https://www.familien-zentrum.de/wp-content/uploa
 ds/2024/12/Jessica-Mizich-Referentin-Babycafe-e1736865918146.jpeg
CATEGORIES:Eltern,Familie,Vorträge
LOCATION:MGH Familien-Zentrum-Freudenstadt e.V.\, Reichsstraße 16\, Freude
 nstadt\, 72250\, Deutschland
X-APPLE-STRUCTURED-LOCATION;VALUE=URI;X-ADDRESS=Reichsstraße 16\, Freudens
 tadt\, 72250\, Deutschland;X-APPLE-RADIUS=100;X-TITLE=MGH Familien-Zentrum
 -Freudenstadt e.V.:geo:0,0
END:VEVENT
BEGIN:VTIMEZONE
TZID:Europe/Berlin
X-LIC-LOCATION:Europe/Berlin
BEGIN:STANDARD
DTSTART:20241027T020000
TZOFFSETFROM:+0200
TZOFFSETTO:+0100
TZNAME:CET
END:STANDARD
END:VTIMEZONE
END:VCALENDAR