BEGIN:VCALENDAR
VERSION:2.0
PRODID:-//wp-events-plugin.com//7.2.3.1//EN
TZID:Europe/Berlin
X-WR-TIMEZONE:Europe/Berlin
BEGIN:VEVENT
UID:1140@familien-zentrum.de
DTSTART;TZID=Europe/Berlin:20260520T100000
DTEND;TZID=Europe/Berlin:20260520T110000
DTSTAMP:20260414T103746Z
URL:https://www.familien-zentrum.de/veranstaltungen/babycafe-vortrag-zahnp
 flege-und-mundhygiene-bei-den-kleinsten-2/
SUMMARY:Babycafé-Vortrag „Zahnpflege und Mundhygiene bei den Kleinsten
 “
DESCRIPTION:In dem Vortrag von Frau Nesch (Fachfrau für Zahngesundheit) we
 rden Grundlagen und praktische Verhaltensweisen zur Zahnpflege und Mundhyg
 iene vermittelt.\n\nKeine vorherige Anmeldung notwendig - kostenfrei.\n\n&
 nbsp\;
ATTACH;FMTTYPE=image/jpeg:https://www.familien-zentrum.de/wp-content/uploa
 ds/2024/10/Babycafe-18.10.2023-mit-Vortrag-Zahnpflege-mit-Frau-Nesch-11-sc
 aled-e1727795247344.jpg
CATEGORIES:Vorträge
LOCATION:MGH Familien-Zentrum-Freudenstadt e.V.\, Reichsstraße 16\, Freude
 nstadt\, 72250\, Deutschland
X-APPLE-STRUCTURED-LOCATION;VALUE=URI;X-ADDRESS=Reichsstraße 16\, Freudens
 tadt\, 72250\, Deutschland;X-APPLE-RADIUS=100;X-TITLE=MGH Familien-Zentrum
 -Freudenstadt e.V.:geo:0,0
END:VEVENT
BEGIN:VTIMEZONE
TZID:Europe/Berlin
X-LIC-LOCATION:Europe/Berlin
BEGIN:DAYLIGHT
DTSTART:20260329T030000
TZOFFSETFROM:+0100
TZOFFSETTO:+0200
TZNAME:CEST
END:DAYLIGHT
END:VTIMEZONE
END:VCALENDAR