BEGIN:VCALENDAR
VERSION:2.0
PRODID:-//wp-events-plugin.com//7.2.3.1//EN
TZID:Europe/Berlin
X-WR-TIMEZONE:Europe/Berlin
BEGIN:VEVENT
UID:1120@familien-zentrum.de
DTSTART;TZID=Europe/Berlin:20260305T150000
DTEND;TZID=Europe/Berlin:20260305T180000
DTSTAMP:20260224T134920Z
URL:https://www.familien-zentrum.de/veranstaltungen/kinderschutzprojekt-ha
 llo-du-hab-acht-auf-mich-4/
SUMMARY:Kinderschutzprojekt "HALLO DU - hab Acht auf mich!"
DESCRIPTION:Wir laden Kinder der 2. bis 6. Klasse zum Kinderschutzprojekt "
 HALLO DU - hab Acht auf mich!" ein.\n\nAuf spielerische Weise werden den K
 indern die Themen Kinderschutz\, Kinderrechte und Demokratie nähergebrach
 t. Mit kreativen und partizipativen Methoden werden Selbstbestimmung und B
 eteiligung gestärkt. In einem geschützten Rahmen lernen sie\, Gefühle u
 nd persönliche Grenzen besser wahrzunehmen\, Vertrauen zu entwickeln und 
 Verantwortung zu übernehmen. Das Projekt findet monatlich von 15:00 bis 1
 7:00 Uhr statt.\n\nAuch die Eltern werden aktiv einbezogen\, um Kinderschu
 tz und Beteiligung dauerhaft - auch im familiären Alltag - zu fördern. D
 er Elterntreff findet ebenfalls jeweils monatlich\, von 17:00 bis 18:00 U
 hr\, statt.\n\nFinanziert wird das Projekt durch das Ministerium für Sozi
 ales\, Gesundheit und Integration aus Landesmitteln\, die der Landtag von 
 Baden-Württemberg beschlossen hat.\n\nWir bitten um Anmeldung unter 07441
 /950430 oder mail@familien-zentrum.de\n\n&nbsp\;
ATTACH;FMTTYPE=image/jpeg:https://www.familien-zentrum.de/wp-content/uploa
 ds/2025/12/Kinderschutzprojekt-HALLO-DU-07.10.2025-18-scaled.jpg
CATEGORIES:Kinder,Workshop
LOCATION:MGH Familien-Zentrum-Freudenstadt e.V.\, Reichsstraße 16\, Freude
 nstadt\, 72250\, Deutschland
X-APPLE-STRUCTURED-LOCATION;VALUE=URI;X-ADDRESS=Reichsstraße 16\, Freudens
 tadt\, 72250\, Deutschland;X-APPLE-RADIUS=100;X-TITLE=MGH Familien-Zentrum
 -Freudenstadt e.V.:geo:0,0
END:VEVENT
BEGIN:VTIMEZONE
TZID:Europe/Berlin
X-LIC-LOCATION:Europe/Berlin
BEGIN:STANDARD
DTSTART:20251026T020000
TZOFFSETFROM:+0200
TZOFFSETTO:+0100
TZNAME:CET
END:STANDARD
END:VTIMEZONE
END:VCALENDAR