BEGIN:VCALENDAR
VERSION:2.0
PRODID:-//wp-events-plugin.com//7.2.3.1//EN
TZID:Europe/Berlin
X-WR-TIMEZONE:Europe/Berlin
BEGIN:VEVENT
UID:1129@familien-zentrum.de
DTSTART;TZID=Europe/Berlin:20260310T150000
DTEND;TZID=Europe/Berlin:20260310T170000
DTSTAMP:20260227T112721Z
URL:https://www.familien-zentrum.de/veranstaltungen/nostalgie-kaffee-erzae
 hl-doch-mal/
SUMMARY:Nostalgie-Kaffee – Erzähl doch mal
DESCRIPTION:Ab März 2026 startet im Mehrgenerationenhaus Familien-Zentrum-
 Freudenstadt e.V. ein neues Angebot für Menschen ab 65 Jahren.\n\nDas FZF
  lädt 14-tägig dienstags (in ungeraden Wochen: 24.03.\, 07.04.\, ...) vo
 n 15:00–17:00 Uhr ins Café AugenBLICK zu Kaffee\, Kuchen und Begegnung 
 ein. Im „Nostalgie-Kaffee“ gibt es Geschichten und kleine Mitmachaktio
 nen\; wer möchte\, hört einfach zu. Das FZF lebt eine offene Willkommens
 kultur und macht Mut zum Dabeisein.\n\nDie Teilnahme ist auch ohne Anmeldu
 ng möglich.\n\nGefördert wird das Projekt von der Lore und Rudi Hausberg
 -Stiftung.\n\nWeitere Infos übers FZF-Büro: Tel. 07441/950430 oder mail@
 familien-zentrum.de
ATTACH;FMTTYPE=image/jpeg:https://www.familien-zentrum.de/wp-content/uploa
 ds/2026/02/Nostalgie-Cafe-K.St_.-04.02.2026-1-scaled.jpg
CATEGORIES:Begegnung,Senioren
LOCATION:MGH Familien-Zentrum-Freudenstadt e.V.\, Reichsstraße 16\, Freude
 nstadt\, 72250\, Deutschland
X-APPLE-STRUCTURED-LOCATION;VALUE=URI;X-ADDRESS=Reichsstraße 16\, Freudens
 tadt\, 72250\, Deutschland;X-APPLE-RADIUS=100;X-TITLE=MGH Familien-Zentrum
 -Freudenstadt e.V.:geo:0,0
END:VEVENT
BEGIN:VTIMEZONE
TZID:Europe/Berlin
X-LIC-LOCATION:Europe/Berlin
BEGIN:STANDARD
DTSTART:20251026T020000
TZOFFSETFROM:+0200
TZOFFSETTO:+0100
TZNAME:CET
END:STANDARD
END:VTIMEZONE
END:VCALENDAR