BEGIN:VCALENDAR
VERSION:2.0
PRODID:-//wp-events-plugin.com//7.2.3.1//EN
TZID:Europe/Berlin
X-WR-TIMEZONE:Europe/Berlin
BEGIN:VEVENT
UID:1138@familien-zentrum.de
DTSTART;TZID=Europe/Berlin:20260507T193000
DTEND;TZID=Europe/Berlin:20260507T210000
DTSTAMP:20260414T103448Z
URL:https://www.familien-zentrum.de/veranstaltungen/vortrag-gesundheitsver
 sorgung-in-freudenstadt-2/
SUMMARY:Vortrag „Gesundheitsversorgung in Freudenstadt“
DESCRIPTION:Das FZF lädt Menschen mit Flucht- und Migrationshintergrund\, 
 Fachkräfte der Flüchtlings- und Integrationsarbeit sowie Interessierte z
 um Vortrag „Gesundheitsversorgung in Freudenstadt“ von Herrn Dr. med. 
 Stefan Langrehr ein.\n\nIn einer verständlichen und leicht zugänglichen 
 Weise wird das Gesundheitssystem in Deutschland erläutert. Wo kann ich Hi
 lfe bekommen\, wenn mein Kind oder ich krank sind? Zu wem kann ich mich be
 i verschiedenen gesundheitlichen Anliegen wenden\, und wann ist welche Anl
 aufstelle sinnvoll? Ziel des Vortrags ist es\, vor allem Geflüchtete übe
 r bestehende Unterstützungsmöglichkeiten zu informieren und Fachkräfte 
 mit wichtigen Informationen auszustatten\, damit sie dieses Wissen weiterg
 eben können. Es werden zweisprachige Handouts zur Verfügung gestellt.\n\
 nDie Teilnahme ist kostenlos. Anmeldungen und Infos im FZF-Büro\, Tel. 07
 441 / 950430 oder mail@familien-zentrum.de.
ATTACH;FMTTYPE=image/jpeg:https://www.familien-zentrum.de/wp-content/uploa
 ds/2025/03/Dr.-Langrehr.jpg
CATEGORIES:Vorträge
LOCATION:MGH Familien-Zentrum-Freudenstadt e.V.\, Reichsstraße 16\, Freude
 nstadt\, 72250\, Deutschland
X-APPLE-STRUCTURED-LOCATION;VALUE=URI;X-ADDRESS=Reichsstraße 16\, Freudens
 tadt\, 72250\, Deutschland;X-APPLE-RADIUS=100;X-TITLE=MGH Familien-Zentrum
 -Freudenstadt e.V.:geo:0,0
END:VEVENT
BEGIN:VTIMEZONE
TZID:Europe/Berlin
X-LIC-LOCATION:Europe/Berlin
BEGIN:DAYLIGHT
DTSTART:20260329T030000
TZOFFSETFROM:+0100
TZOFFSETTO:+0200
TZNAME:CEST
END:DAYLIGHT
END:VTIMEZONE
END:VCALENDAR