BEGIN:VCALENDAR
VERSION:2.0
PRODID:-//wp-events-plugin.com//7.2.3.1//EN
TZID:Europe/Berlin
X-WR-TIMEZONE:Europe/Berlin
BEGIN:VEVENT
UID:1136@familien-zentrum.de
DTSTART;TZID=Europe/Berlin:20260424T100000
DTEND;TZID=Europe/Berlin:20260424T120000
DTSTAMP:20260414T103040Z
URL:https://www.familien-zentrum.de/veranstaltungen/workshop-einstieg-in-d
 en-beruf-fuer-frauen-mit-migrationshintergrund/
SUMMARY:Workshop „Einstieg in den Beruf für Frauen mit Migrationshinterg
 rund“
DESCRIPTION:Das FZF lädt Frauen mit Migrations- und Flüchtlingshintergru
 nd zum Workshop „Einstieg in den Beruf für Frauen mit Migrationshinterg
 rund“ mit Michaela Thoma\, Beraterin des Welcome Centers Nordschwarzwald
  ein.\n\nIn freundlicher Atmosphäre erhalten die Teilnehmerinnen praxisna
 he Tipps zu Bewerbung\, Lebenslauf\, dualer Ausbildung und beruflicher Qua
 lifikation - mit Raum für Austausch\, Vernetzung und individuelle Fragen.
  Ziel ist es\, Frauen beim Einstieg in den Arbeitsmarkt zu unterstützen u
 nd zu ermutigen.\n\nDie Teilnahme ist kostenlos. Anmeldungen und Infos im 
 FZF-Büro\, Tel. 07441 / 950430 oder mail@familien-zentrum.de.
ATTACH;FMTTYPE=image/jpeg:https://www.familien-zentrum.de/wp-content/uploa
 ds/2025/06/Einzelbild-Frau-Thoma-Welcome-Center-Schwarzwald.png
CATEGORIES:Workshop
LOCATION:MGH Familien-Zentrum-Freudenstadt e.V.\, Reichsstraße 16\, Freude
 nstadt\, 72250\, Deutschland
X-APPLE-STRUCTURED-LOCATION;VALUE=URI;X-ADDRESS=Reichsstraße 16\, Freudens
 tadt\, 72250\, Deutschland;X-APPLE-RADIUS=100;X-TITLE=MGH Familien-Zentrum
 -Freudenstadt e.V.:geo:0,0
END:VEVENT
BEGIN:VTIMEZONE
TZID:Europe/Berlin
X-LIC-LOCATION:Europe/Berlin
BEGIN:DAYLIGHT
DTSTART:20260329T030000
TZOFFSETFROM:+0100
TZOFFSETTO:+0200
TZNAME:CEST
END:DAYLIGHT
END:VTIMEZONE
END:VCALENDAR